BEGIN:VCALENDAR
VERSION:2.0
PRODID:-//eventon.com NONSGML v1.0//EN
CALSCALE:GREGORIAN
METHOD:PUBLISH
BEGIN:VEVENT
UID:69e5f4823bfff
DTSTAMP:20260420T094018Z
DTSTART:20260422T090000Z
DTEND:20260422T120000Z
LOCATION:Gymnase de Renens Av. du Censuy 2\,  1020 Renens
SUMMARY:Tous les mercredis\,  Gymnase de Renens
DESCRIPTION:Tous les mercredis\,  Gymnase de Renens\nhttps://frit-belge-and
 -co.ch/events/tous-les-mercredis-gymnase-de-renens/var/ri-5.l-L1
URL:https://frit-belge-and-co.ch/events/tous-les-mercredis-gymnase-de-renens/var/ri-5.l-L1
END:VEVENT
END:VCALENDAR