BEGIN:VCALENDAR
VERSION:2.0
PRODID:-//eventon.com NONSGML v1.0//EN
CALSCALE:GREGORIAN
METHOD:PUBLISH
BEGIN:VEVENT
UID:69e5f60f57119
DTSTAMP:20260420T094655Z
DTSTART:20260423T090000Z
DTEND:20260423T120000Z
LOCATION:Eaton S.A. - Morges Rte de la Longeraie 7
SUMMARY:Tous les jeudis\,  Eaton S.A.
DESCRIPTION:Tous les jeudis\,  Eaton S.A.\nhttps://frit-belge-and-co.ch/eve
 nts/tous-les-jeudis-eaton-s-a/var/ri-14.l-L1
URL:https://frit-belge-and-co.ch/events/tous-les-jeudis-eaton-s-a/var/ri-14.l-L1
END:VEVENT
END:VCALENDAR