BEGIN:VCALENDAR
VERSION:2.0
PRODID:-//eventon.com NONSGML v1.0//EN
CALSCALE:GREGORIAN
METHOD:PUBLISH
BEGIN:VEVENT
UID:69e887e707fe0
DTSTAMP:20260422T083343Z
DTSTART:20260421T090000Z
DTEND:20260421T120000Z
LOCATION:Scheuchzer S.A. - Bussigny Chem. de Cudrex 1/4
SUMMARY:Tous les mardis\,  Scheuchzer S.A.
DESCRIPTION:Tous les mardis\,  Scheuchzer S.A.\nhttps://frit-belge-and-co.c
 h/events/tous-les-mardis-scheuchzer-s-a/var/ri-14.l-L1
URL:https://frit-belge-and-co.ch/events/tous-les-mardis-scheuchzer-s-a/var/ri-14.l-L1
END:VEVENT
END:VCALENDAR